BEGIN:VCALENDAR
VERSION:2.0
PRODID:-//AudioTheme 2.3.8
BEGIN:VEVENT
UID:urn:uuid:02b694dd-5920-47e5-a922-1066014dfed3
URL:https://officialpatobanton.com/shows/2021-07-15/
DTSTART;VALUE=DATE:20210715
SUMMARY:Value Culture Music
LOCATION:The Bandshell at Golden Gate Park\, San Francisco\, CA\, United States
END:VEVENT
END:VCALENDAR
