BEGIN:VCALENDAR
VERSION:2.0
PRODID:-//AudioTheme 2.3.8
BEGIN:VEVENT
UID:urn:uuid:c9ba1bb0-ecd2-4654-864e-dbcd3aa35c33
URL:https://officialpatobanton.com/shows/alma-del-mar/
DTSTART;VALUE=DATE:20210704
SUMMARY:Alma Del Mar
DESCRIPTION:FREE SHOW
LOCATION:Alma Del Mar\, 398 Shasta St\, Sand City\, CA\, United States\, 93955
END:VEVENT
END:VCALENDAR
