BEGIN:VCALENDAR
VERSION:2.0
PRODID:-//AudioTheme 2.3.8
BEGIN:VEVENT
UID:urn:uuid:85348f0d-52b8-4519-84f8-e1d78b377a24
URL:https://officialpatobanton.com/shows/forever-found-humboldt/
DTSTART;VALUE=DATE:20210720
SUMMARY:Forever Found Humboldt
LOCATION:Forever Found Humboldt\, 109 5th St\, Eureka\, CA\, United States\, 95501
END:VEVENT
END:VCALENDAR
