BEGIN:VCALENDAR
VERSION:2.0
PRODID:-//AudioTheme 2.3.8
BEGIN:VEVENT
UID:urn:uuid:4fa6a622-9ab0-41e6-b37b-11f0e8fc5cb7
URL:https://officialpatobanton.com/shows/gualala-arts-center/
DTSTART;VALUE=DATE:20210718
SUMMARY:Gualala Arts Center
DESCRIPTION:FREE FAMILY SHOW
LOCATION:Gualala Arts Center\, 46501 Old Stage Road\, Gualala\, CA\, United States\, 95445
END:VEVENT
END:VCALENDAR
