BEGIN:VCALENDAR
VERSION:2.0
PRODID:-//AudioTheme 2.3.8
BEGIN:VEVENT
UID:urn:uuid:fd2c3a8f-1613-4f02-8682-065eb90544b2
URL:https://officialpatobanton.com/shows/house-of-jambalaya/
DTSTART;VALUE=DATE:20210721
SUMMARY:House of Jambalaya
DESCRIPTION:FREE SHOW
LOCATION:Schmidt's House of Jambalaya\, 110 Anchor Way\, Crescent City\, CA\, United States\, 95531
END:VEVENT
END:VCALENDAR
