BEGIN:VCALENDAR
VERSION:2.0
PRODID:-//AudioTheme 2.3.8
BEGIN:VEVENT
UID:urn:uuid:d22183e0-685c-4bea-afdc-19a11e824a34
URL:https://officialpatobanton.com/shows/jah-house-of-dub/
DTSTART;TZID=GMT:20210626T220000
SUMMARY:Jah House of Dub
DESCRIPTION:FREE FAMILY SHOW
LOCATION:Jah House Of Dub\, 49634 29 Palms Hwy\, Morongo Valley\, CA\, United States\, 92256
END:VEVENT
END:VCALENDAR
