BEGIN:VCALENDAR
VERSION:2.0
PRODID:-//AudioTheme 2.3.8
BEGIN:VEVENT
UID:urn:uuid:4c497ddc-7584-4681-99f6-1ec5dd28218d
URL:https://officialpatobanton.com/shows/konocti-vista-casino-resort/
DTSTART;VALUE=DATE:20210717
SUMMARY:Konocti Vista Casino Resort
LOCATION:Konocti Vista Casino Resort\, Marina & RV Park\, 2755 Mission Rancheria Road\, Lakeport\, CA\, United States\, 95453
END:VEVENT
END:VCALENDAR
