BEGIN:VCALENDAR
VERSION:2.0
PRODID:-//AudioTheme 2.3.8
BEGIN:VEVENT
UID:urn:uuid:db22e2be-d72a-4576-a782-241ef246a991
URL:https://officialpatobanton.com/shows/longboards/
DTSTART;VALUE=DATE:20210709
SUMMARY:Longboards
LOCATION:Longboard Margarita Bar\, 180 Eureka Drive\, Pacifica\, CA\, United States\, 94044
END:VEVENT
END:VCALENDAR
