BEGIN:VCALENDAR
VERSION:2.0
PRODID:-//AudioTheme 2.3.8
BEGIN:VEVENT
UID:urn:uuid:e4a21fcf-b3db-4744-ae80-2dbf6888b1b1
URL:https://officialpatobanton.com/shows/mrs-olsons-coffee-hut/
DTSTART;TZID=GMT:20210702T010000
SUMMARY:Mrs. Olson's Coffee Hut
LOCATION:Mrs. Olson's Coffee Hut\, 2800 Harbor Boulevard\, Oxnard\, CA\, United States\, 93035
END:VEVENT
END:VCALENDAR
