BEGIN:VCALENDAR
VERSION:2.0
PRODID:-//AudioTheme 2.3.8
BEGIN:VEVENT
UID:urn:uuid:a1004415-81e8-48e7-8846-7727b4efb2ac
URL:https://officialpatobanton.com/shows/pear-blossom-park/
DTSTART;VALUE=DATE:20210722
SUMMARY:Pear Blossom Park
DESCRIPTION:FREE CONCERT & WEDDING
LOCATION:Pear Blossom Park\, 312 East 4th St\, Medford\, OR\, United States\, 97504
END:VEVENT
END:VCALENDAR
