BEGIN:VCALENDAR
VERSION:2.0
PRODID:-//AudioTheme 2.3.8
BEGIN:VEVENT
UID:urn:uuid:b248ba78-a01c-4b20-a540-4f3a563eedd6
URL:https://officialpatobanton.com/shows/redwood-rv-park/
DTSTART;VALUE=DATE:20210723
SUMMARY:Redwood RV Park
DESCRIPTION:FREE SHOW
LOCATION:Redwood RV Park\, 145 Alder Camp Road\, Klamath\, CA\, United States\, 95548
END:VEVENT
END:VCALENDAR
