BEGIN:VCALENDAR
VERSION:2.0
PRODID:-//AudioTheme 2.3.8
BEGIN:VEVENT
UID:urn:uuid:aad76e40-3c27-4523-b264-01e592e313d6
URL:https://officialpatobanton.com/shows/reggae-on-the-beach/
DTSTART;VALUE=DATE:20210714
SUMMARY:Reggae On The Beach
DESCRIPTION:FREE SHOW
LOCATION:Reggae On The Beach\, 15025 River Road\, Guerneville\, CA\, United States\, 95446
END:VEVENT
END:VCALENDAR
