BEGIN:VCALENDAR
VERSION:2.0
PRODID:-//AudioTheme 2.3.8
BEGIN:VEVENT
UID:urn:uuid:0af1194f-0d83-47db-a894-cbb4dfb37912
URL:https://officialpatobanton.com/shows/swabbies-on-the-river/
DTSTART;VALUE=DATE:20210716
SUMMARY:Swabbies On The River
LOCATION:Swabbies On The River Restaurant & Bar\, 5871 Garden Highway\, Sacramento\, CA\, United States\, 95837
END:VEVENT
END:VCALENDAR
