BEGIN:VCALENDAR
VERSION:2.0
PRODID:-//AudioTheme 2.3.8
BEGIN:VEVENT
UID:urn:uuid:102ae18b-17e1-4b0f-b77f-764523e526e7
URL:https://officialpatobanton.com/shows/the-mateel-community-center/
DTSTART;VALUE=DATE:20210719
SUMMARY:The Mateel Community Center
DESCRIPTION:FREE SHOW
LOCATION:Mateel Community Center\, 59 Rusk Lane\, Redway\, CA\, United States\, 95560
END:VEVENT
END:VCALENDAR
