BEGIN:VCALENDAR
VERSION:2.0
PRODID:-//AudioTheme 2.3.8
BEGIN:VEVENT
UID:urn:uuid:317f022d-b39c-4b90-9cd4-26ad82928a20
URL:https://officialpatobanton.com/shows/tribute-to-jam-kwest/
DTSTART;TZID=GMT:20210626T210000
SUMMARY:Tribute To Jam Kwest
LOCATION:Legacy Brewing Company\, 363 Airport Road\, Oceanside\, CA\, United States\, 92058
END:VEVENT
END:VCALENDAR
